BEGIN:VCALENDAR
VERSION:2.0
PRODID:-//EIFID - ECPv5.1.6//NONSGML v1.0//EN
CALSCALE:GREGORIAN
METHOD:PUBLISH
X-WR-CALNAME:EIFID
X-ORIGINAL-URL:https://eifid.com
X-WR-CALDESC:Events for EIFID
BEGIN:VTIMEZONE
TZID:Europe/Amsterdam
BEGIN:DAYLIGHT
TZOFFSETFROM:+0100
TZOFFSETTO:+0200
TZNAME:CEST
DTSTART:20230326T010000
END:DAYLIGHT
BEGIN:STANDARD
TZOFFSETFROM:+0200
TZOFFSETTO:+0100
TZNAME:CET
DTSTART:20231029T010000
END:STANDARD
END:VTIMEZONE
BEGIN:VEVENT
DTSTART;TZID=Europe/Amsterdam:20230210T100000
DTEND;TZID=Europe/Amsterdam:20230210T100000
DTSTAMP:20260421T124518
CREATED:20221210T062154Z
LAST-MODIFIED:20221210T062310Z
UID:1952-1676023200-1676023200@eifid.com
SUMMARY:Focussing Your Business - Workshop
DESCRIPTION:Review and clarify your entrepreneurial mindset\,\nDive in your personal business mission and work on your message to the world\,\nGo over your market and work on your financial plan!\n\n 
URL:https://eifid.com/event/focussing-your-business-workshop/
CATEGORIES:Workshop
ATTACH;FMTTYPE=image/jpeg:https://eifid.com/wp-content/uploads/2021/01/Focus-zour-business.jpg
END:VEVENT
END:VCALENDAR