BEGIN:VCALENDAR
VERSION:2.0
PRODID:-//EIFID - ECPv5.1.6//NONSGML v1.0//EN
CALSCALE:GREGORIAN
METHOD:PUBLISH
X-WR-CALNAME:EIFID
X-ORIGINAL-URL:https://eifid.com
X-WR-CALDESC:Events for EIFID
BEGIN:VTIMEZONE
TZID:Europe/Amsterdam
BEGIN:DAYLIGHT
TZOFFSETFROM:+0100
TZOFFSETTO:+0200
TZNAME:CEST
DTSTART:20190331T010000
END:DAYLIGHT
BEGIN:STANDARD
TZOFFSETFROM:+0200
TZOFFSETTO:+0100
TZNAME:CET
DTSTART:20191027T010000
END:STANDARD
END:VTIMEZONE
BEGIN:VEVENT
DTSTART;TZID=Europe/Amsterdam:20191116T100000
DTEND;TZID=Europe/Amsterdam:20191117T170000
DTSTAMP:20260422T105926
CREATED:20190910T123639Z
LAST-MODIFIED:20190918T093921Z
UID:722-1573898400-1574010000@eifid.com
SUMMARY:Living and working across cultures – enhancing your cross-cultural skill-set
DESCRIPTION:>> FULL DESCRIPTION\n\n                \n                        \n                            Intercultural Training\n                            \n                        \n                        Name*\n                            \n                            \n                                                    \n                                                    First\n                                                \n                            \n                            \n                                                    \n                                                    Last\n                                                \n                            \n                        Email*\n                            \n                        Phone*Company / Organisation (if applicable)Full billing address (+VAT if applicable)*Do you need a Visa?*YesNoI´m aware that I need to pay before the start of the program**\n								\n								Yes\n							Where did you hear about the program?**Other remarks
URL:https://eifid.com/event/intercultural-training/
LOCATION:Cairo\, Netherlands
ATTACH;FMTTYPE=image/jpeg:https://eifid.com/wp-content/uploads/2017/09/kyle-glenn-nXt5HtLmlgE-unsplash-1.jpg
ORGANIZER;CN="European%20Institute%20for%20Intercultural%20Development":MAILTO:contact@eifid.com
END:VEVENT
END:VCALENDAR