BEGIN:VCALENDAR
VERSION:2.0
PRODID:-//EIFID - ECPv5.1.6//NONSGML v1.0//EN
CALSCALE:GREGORIAN
METHOD:PUBLISH
X-WR-CALNAME:EIFID
X-ORIGINAL-URL:https://eifid.com
X-WR-CALDESC:Events for EIFID
BEGIN:VTIMEZONE
TZID:Europe/Amsterdam
BEGIN:DAYLIGHT
TZOFFSETFROM:+0100
TZOFFSETTO:+0200
TZNAME:CEST
DTSTART:20190331T010000
END:DAYLIGHT
BEGIN:STANDARD
TZOFFSETFROM:+0200
TZOFFSETTO:+0100
TZNAME:CET
DTSTART:20191027T010000
END:STANDARD
END:VTIMEZONE
BEGIN:VEVENT
DTSTART;VALUE=DATE:20190701
DTEND;VALUE=DATE:20190824
DTSTAMP:20260421T124420
CREATED:20190107T053916Z
LAST-MODIFIED:20190611T105700Z
UID:509-1561939200-1566604799@eifid.com
SUMMARY:Mastering Intercultural Communication / MIC
DESCRIPTION:MIC is the only 8-weeks intercultural online program\, especially designed for entrepreneurs who are ready to take action and make their first step into the Intercultual Career. \n  \n\n                \n                        \n                            \n                        \n                        What is your full name?*What is your best email?*\n                            \n                        Promotion CodeHow can we reach you via phone?*We call only for training purposes:)What is your Facebook page?\n                    \n                Where should we send the invoice to?*Please provide full details\, incl. VAT NumberDo you have a website?\n                    \n                Where did you hear about the program?*This is a space for your remarks / questions / wishes
URL:https://eifid.com/event/mastering-intercultural-communication/
ATTACH;FMTTYPE=image/jpeg:https://eifid.com/wp-content/uploads/2019/01/IMG_3697-4.jpg
END:VEVENT
END:VCALENDAR