BEGIN:VCALENDAR
VERSION:2.0
PRODID:-//EIFID - ECPv5.1.6//NONSGML v1.0//EN
CALSCALE:GREGORIAN
METHOD:PUBLISH
X-WR-CALNAME:EIFID
X-ORIGINAL-URL:https://eifid.com
X-WR-CALDESC:Events for EIFID
BEGIN:VTIMEZONE
TZID:Europe/Amsterdam
BEGIN:DAYLIGHT
TZOFFSETFROM:+0100
TZOFFSETTO:+0200
TZNAME:CEST
DTSTART:20210328T010000
END:DAYLIGHT
BEGIN:STANDARD
TZOFFSETFROM:+0200
TZOFFSETTO:+0100
TZNAME:CET
DTSTART:20211031T010000
END:STANDARD
END:VTIMEZONE
BEGIN:VEVENT
DTSTART;TZID=Europe/Amsterdam:20210118T073000
DTEND;TZID=Europe/Amsterdam:20210218T090000
DTSTAMP:20260420T121159
CREATED:20201112T161015Z
LAST-MODIFIED:20201229T163647Z
UID:1195-1610955000-1613638800@eifid.com
SUMMARY:Mastering Intercultural Communication / MIC
DESCRIPTION:MIC is the only 5-weeks intercultural online program\, especially designed for entrepreneurs who are ready to take action and make their first brave step into the Intercultural Career (click here to get back to the main MIC page). \n\n                \n                        \n                            \n                        \n                        What is your full name?*What is your best email?*\n                            \n                        Promotion CodeHow can we reach you via phone?*We call only for training purposes:)What is your Facebook page?\n                    \n                Where should we send the invoice to?*Please provide full details\, incl. VAT NumberDo you have a website?\n                    \n                Where did you hear about the program?*This is a space for your remarks / questions / wishes
URL:https://eifid.com/event/mic_feb/
CATEGORIES:MIC
ATTACH;FMTTYPE=image/jpeg:https://eifid.com/wp-content/uploads/2019/01/IMG_3697-4.jpg
ORGANIZER;CN="European%20Institute%20for%20Intercultural%20Development":MAILTO:contact@eifid.com
END:VEVENT
END:VCALENDAR