BEGIN:VCALENDAR
VERSION:2.0
PRODID:-//EIFID - ECPv5.1.6//NONSGML v1.0//EN
CALSCALE:GREGORIAN
METHOD:PUBLISH
X-WR-CALNAME:EIFID
X-ORIGINAL-URL:https://eifid.com
X-WR-CALDESC:Events for EIFID
BEGIN:VTIMEZONE
TZID:Europe/Warsaw
BEGIN:DAYLIGHT
TZOFFSETFROM:+0100
TZOFFSETTO:+0200
TZNAME:CEST
DTSTART:20200329T010000
END:DAYLIGHT
BEGIN:STANDARD
TZOFFSETFROM:+0200
TZOFFSETTO:+0100
TZNAME:CET
DTSTART:20201025T010000
END:STANDARD
END:VTIMEZONE
BEGIN:VEVENT
DTSTART;TZID=Europe/Warsaw:20200817T080000
DTEND;TZID=Europe/Warsaw:20200817T170000
DTSTAMP:20260420T123945
CREATED:20200817T183132Z
LAST-MODIFIED:20200817T183148Z
UID:1127-1597651200-1597683600@eifid.com
SUMMARY:Rethinking education - a webinar for teachers (PL)
DESCRIPTION:A webinar for teachers interested in Intercultural Competence. Project partners:
URL:https://eifid.com/event/rethinking-education-a-webinar-for-teachers-pl/
ATTACH;FMTTYPE=image/jpeg:https://eifid.com/wp-content/uploads/2020/08/basia-webinar.jpg
END:VEVENT
END:VCALENDAR